BEGIN:VCALENDAR
VERSION:2.0
PRODID:-//Numismatische Kommission Sachsen-Anhalt - ECPv6.15.14//NONSGML v1.0//EN
CALSCALE:GREGORIAN
METHOD:PUBLISH
X-WR-CALNAME:Numismatische Kommission Sachsen-Anhalt
X-ORIGINAL-URL:https://nuko-sachsen-anhalt.de
X-WR-CALDESC:Veranstaltungen für Numismatische Kommission Sachsen-Anhalt
REFRESH-INTERVAL;VALUE=DURATION:PT1H
X-Robots-Tag:noindex
X-PUBLISHED-TTL:PT1H
BEGIN:VTIMEZONE
TZID:Europe/Berlin
BEGIN:DAYLIGHT
TZOFFSETFROM:+0100
TZOFFSETTO:+0200
TZNAME:CEST
DTSTART:20250330T010000
END:DAYLIGHT
BEGIN:STANDARD
TZOFFSETFROM:+0200
TZOFFSETTO:+0100
TZNAME:CET
DTSTART:20251026T010000
END:STANDARD
BEGIN:DAYLIGHT
TZOFFSETFROM:+0100
TZOFFSETTO:+0200
TZNAME:CEST
DTSTART:20260329T010000
END:DAYLIGHT
BEGIN:STANDARD
TZOFFSETFROM:+0200
TZOFFSETTO:+0100
TZNAME:CET
DTSTART:20261025T010000
END:STANDARD
BEGIN:DAYLIGHT
TZOFFSETFROM:+0100
TZOFFSETTO:+0200
TZNAME:CEST
DTSTART:20270328T010000
END:DAYLIGHT
BEGIN:STANDARD
TZOFFSETFROM:+0200
TZOFFSETTO:+0100
TZNAME:CET
DTSTART:20271031T010000
END:STANDARD
END:VTIMEZONE
BEGIN:VEVENT
DTSTART;VALUE=DATE:20261023
DTEND;VALUE=DATE:20261026
DTSTAMP:20260422T152017
CREATED:20260205T184944Z
LAST-MODIFIED:20260205T184944Z
UID:522-1792713600-1792972799@nuko-sachsen-anhalt.de
SUMMARY:DGMK-Jahrestagung in Kressbronn am Bodensee
DESCRIPTION:Deutsche Gesellschaft für Medaillenkunst\, DGMK-Jahrestagung in Kressbronn am Bodensee
URL:https://nuko-sachsen-anhalt.de/veranstaltungen/dgmk-jahrestagung-in-kressbronn-am-bodensee/
CATEGORIES:Sonstiges
END:VEVENT
END:VCALENDAR